BEGIN:VCALENDAR
VERSION:2.0
PRODID:-//Gateway United Methodist Church - ECPv6.15.20//NONSGML v1.0//EN
CALSCALE:GREGORIAN
METHOD:PUBLISH
X-WR-CALNAME:Gateway United Methodist Church
X-ORIGINAL-URL:https://gatewayunitedmethodistchurch.com
X-WR-CALDESC:Events for Gateway United Methodist Church
REFRESH-INTERVAL;VALUE=DURATION:PT1H
X-Robots-Tag:noindex
X-PUBLISHED-TTL:PT1H
BEGIN:VTIMEZONE
TZID:UTC
BEGIN:STANDARD
TZOFFSETFROM:+0000
TZOFFSETTO:+0000
TZNAME:UTC
DTSTART:20250101T000000
END:STANDARD
END:VTIMEZONE
BEGIN:VEVENT
DTSTART;TZID=UTC:20260516T090000
DTEND;TZID=UTC:20260516T100000
DTSTAMP:20260423T175457
CREATED:20250916T033442Z
LAST-MODIFIED:20260421T172232Z
UID:8294-1778922000-1778925600@gatewayunitedmethodistchurch.com
SUMMARY:Book Club Meeting
DESCRIPTION:Click for Book Club Meeting date.
URL:https://gatewayunitedmethodistchurch.com/events/book-club-meeting-2/
END:VEVENT
END:VCALENDAR