BEGIN:VCALENDAR
VERSION:2.0
PRODID:-//Gateway United Methodist Church - ECPv6.15.20//NONSGML v1.0//EN
CALSCALE:GREGORIAN
METHOD:PUBLISH
X-ORIGINAL-URL:https://gatewayunitedmethodistchurch.com
X-WR-CALDESC:Events for Gateway United Methodist Church
REFRESH-INTERVAL;VALUE=DURATION:PT1H
X-Robots-Tag:noindex
X-PUBLISHED-TTL:PT1H
BEGIN:VTIMEZONE
TZID:UTC
BEGIN:STANDARD
TZOFFSETFROM:+0000
TZOFFSETTO:+0000
TZNAME:UTC
DTSTART:20250101T000000
END:STANDARD
END:VTIMEZONE
BEGIN:VEVENT
DTSTART;TZID=UTC:20260423T100000
DTEND;TZID=UTC:20260423T110000
DTSTAMP:20260423T115658
CREATED:20250527T142328Z
LAST-MODIFIED:20260331T014900Z
UID:8055-1776938400-1776942000@gatewayunitedmethodistchurch.com
SUMMARY:Bible Study\, Gateway UMC
DESCRIPTION:
URL:https://gatewayunitedmethodistchurch.com/events/bible-study-gateway-umc/
END:VEVENT
BEGIN:VEVENT
DTSTART;TZID=UTC:20260426T090000
DTEND;TZID=UTC:20260426T110000
DTSTAMP:20260423T115658
CREATED:20230111T004404Z
LAST-MODIFIED:20260331T015031Z
UID:5742-1777194000-1777201200@gatewayunitedmethodistchurch.com
SUMMARY:Morning Worship @ 9 a.m. & Sunday School @10 a.m.
DESCRIPTION:Morning Worship\, Sunday\, 9:00 am.
URL:https://gatewayunitedmethodistchurch.com/events/morning-worship/
END:VEVENT
BEGIN:VEVENT
DTSTART;TZID=UTC:20260426T103000
DTEND;TZID=UTC:20260426T123000
DTSTAMP:20260423T115658
CREATED:20260324T022618Z
LAST-MODIFIED:20260324T022633Z
UID:8651-1777199400-1777206600@gatewayunitedmethodistchurch.com
SUMMARY:Family Cookout at GUMC
DESCRIPTION:
URL:https://gatewayunitedmethodistchurch.com/events/family-cookout-at-gumc/
END:VEVENT
BEGIN:VEVENT
DTSTART;TZID=UTC:20260429T080000
DTEND;TZID=UTC:20260429T110000
DTSTAMP:20260423T115658
CREATED:20190129T005219Z
LAST-MODIFIED:20260406T233534Z
UID:2648-1777449600-1777460400@gatewayunitedmethodistchurch.com
SUMMARY:M.L. Tootle Mission will not be open this week. Click for more.
DESCRIPTION:Click this link to go to the M.L. Tootle website page.\n 
URL:https://gatewayunitedmethodistchurch.com/events/1200-a-m-m-l-tootle-mission-open-5/
CATEGORIES:M.L. Tootle
END:VEVENT
BEGIN:VEVENT
DTSTART;TZID=UTC:20260429T180000
DTEND;TZID=UTC:20260429T190000
DTSTAMP:20260423T115658
CREATED:20250527T142714Z
LAST-MODIFIED:20260406T233343Z
UID:8063-1777485600-1777489200@gatewayunitedmethodistchurch.com
SUMMARY:Bible Study\, Nugent UMC
DESCRIPTION:
URL:https://gatewayunitedmethodistchurch.com/events/bible-study-nugent-umc/
END:VEVENT
BEGIN:VEVENT
DTSTART;TZID=UTC:20260430T100000
DTEND;TZID=UTC:20260430T110000
DTSTAMP:20260423T115658
CREATED:20250527T142504Z
LAST-MODIFIED:20260406T233426Z
UID:8059-1777543200-1777546800@gatewayunitedmethodistchurch.com
SUMMARY:Bible Study\, Gateway UMC
DESCRIPTION:
URL:https://gatewayunitedmethodistchurch.com/events/bible-study-gateway-umc-3/
END:VEVENT
END:VCALENDAR